BEGIN:VCALENDAR
VERSION:2.0
PRODID:-//hacksw/handcal//NONSGML v1.0//EN
BEGIN:VEVENT
DTSTART:20260606T090000
DTEND:20260606T123000
LOCATION:ENSEEIHT \n2, Rue Charles Camichel \n31000 TOULOUSE
ORGANIZER;CN=Alain CAILLERIE:MAILTO:alain_caillerie@yahoo.fr
SUMMARY:Assemblée Générale AIn7 2026
DESCRIPTION:La prochaine Assemblée Générale de l'Association des Ingénieurs N7 se tiendra le samedi 6 juin 2026 à Toulouse en présentiel dans les locaux de l'école. Tous les membres de l'association à jour de...
URL:https://www.ain7.com/fr/event/assemblee-generale-ain7-2026/2026/06/06/685
BEGIN:VALARM
TRIGGER:-P0DT1H0M0S
ACTION:DISPLAY
END:VALARM
END:VEVENT
END:VCALENDAR