BEGIN:VCALENDAR
VERSION:2.0
PRODID:-//hacksw/handcal//NONSGML v1.0//EN
BEGIN:VEVENT
DTSTART:20260528T090000
DTEND:20260528T190000
LOCATION:Cinéma Véo,  La cartoucherie \n6, Place de la Charte des Libertés Communales \n31100 TOULOUSE
ORGANIZER;CN=Alain CAILLERIE:MAILTO:alain_caillerie@yahoo.fr
SUMMARY:Cloud Toulouse 2026
DESCRIPTION:Pour cette édition 2026, votre rendez-vous Cloud, IA & data incontournable à Toulouse s'installe le jeudi 28 mai 2026 dans le cinéma Véo à la CartoucherieAu programme : \n- Une après-midi riche en...
URL:https://www.ain7.com/fr/event/cloud-toulouse-2026/2026/05/28/679
BEGIN:VALARM
TRIGGER:-P0DT1H0M0S
ACTION:DISPLAY
END:VALARM
END:VEVENT
END:VCALENDAR