BEGIN:VCALENDAR
VERSION:2.0
PRODID:-//hacksw/handcal//NONSGML v1.0//EN
BEGIN:VEVENT
DTSTART:20260221T190000
DTEND:20260222T030000
LOCATION:ENSEEIHT \n2, Rue Charles Camichel \n31000 TOULOUSE
ORGANIZER;CN=Alain CAILLERIE:MAILTO:alain_caillerie@yahoo.fr
SUMMARY:Gala N7 2026
DESCRIPTION:Dans le cadre du Phoenix Gala 2026, une soirée VIP est organisée dans la salle du conseil de l'N7 (pour l'occasion renommée Salle Partenaires) avec un buffet traiteur et le traditionnel feu...
URL:https://www.ain7.com/fr/event/gala-n7-2026/2026/02/21/672
BEGIN:VALARM
TRIGGER:-P0DT1H0M0S
ACTION:DISPLAY
END:VALARM
END:VEVENT
END:VCALENDAR