BEGIN:VCALENDAR
VERSION:2.0
PRODID:-//hacksw/handcal//NONSGML v1.0//EN
BEGIN:VEVENT
DTSTART:20200229T183000
DTEND:20200301T030000
LOCATION:ENSEEIHT \n2 rue Charles Camichel \n31071 TOULOUSE
ORGANIZER;CN=Olivier LALLEMENT:MAILTO:olallement@gmail.com
SUMMARY:Phoenix Gala N7 2020
DESCRIPTION:Le Phoenix Gala N7 est de retour ! Cette année il aura lieu le 29 février 2020. Comme lors de chaque édition, l'équipe du Gala à l'honneur d'inviter les alumni pour fêter les 10 et 20 ans de leurs...
URL:https://www.ain7.com/fr/event/phoenix-gala-n7-2020/2020/02/29/15
BEGIN:VALARM
TRIGGER:-P0DT1H0M0S
ACTION:DISPLAY
END:VALARM
END:VEVENT
END:VCALENDAR